BEGIN:VCALENDAR
VERSION:2.0
PRODID:-//Strohschein Law Group - ECPv6.15.20//NONSGML v1.0//EN
CALSCALE:GREGORIAN
METHOD:PUBLISH
X-ORIGINAL-URL:https://strohscheinlawgroup.com
X-WR-CALDESC:Events for Strohschein Law Group
REFRESH-INTERVAL;VALUE=DURATION:PT1H
X-Robots-Tag:noindex
X-PUBLISHED-TTL:PT1H
BEGIN:VTIMEZONE
TZID:America/Chicago
BEGIN:DAYLIGHT
TZOFFSETFROM:-0600
TZOFFSETTO:-0500
TZNAME:CDT
DTSTART:20240310T080000
END:DAYLIGHT
BEGIN:STANDARD
TZOFFSETFROM:-0500
TZOFFSETTO:-0600
TZNAME:CST
DTSTART:20241103T070000
END:STANDARD
BEGIN:DAYLIGHT
TZOFFSETFROM:-0600
TZOFFSETTO:-0500
TZNAME:CDT
DTSTART:20250309T080000
END:DAYLIGHT
BEGIN:STANDARD
TZOFFSETFROM:-0500
TZOFFSETTO:-0600
TZNAME:CST
DTSTART:20251102T070000
END:STANDARD
BEGIN:DAYLIGHT
TZOFFSETFROM:-0600
TZOFFSETTO:-0500
TZNAME:CDT
DTSTART:20260308T080000
END:DAYLIGHT
BEGIN:STANDARD
TZOFFSETFROM:-0500
TZOFFSETTO:-0600
TZNAME:CST
DTSTART:20261101T070000
END:STANDARD
END:VTIMEZONE
BEGIN:VEVENT
DTSTART;TZID=America/Chicago:20250917T120000
DTEND;TZID=America/Chicago:20250917T130000
DTSTAMP:20260420T180642
CREATED:20241218T203605Z
LAST-MODIFIED:20241218T203605Z
UID:5023-1758110400-1758114000@strohscheinlawgroup.com
SUMMARY:Medicaid 101
DESCRIPTION:Long-term care in a skilled nursing facility is very expensive and most people are not able to sustain the cost of it for very long.  An alternative for many people is to apply for Medicaid and receive assistance from the State and Federal Government.  Join us as we discuss Medicaid’s eligibility requirements and application process. Click on the link below to register. \n 
URL:https://strohscheinlawgroup.com/event/medicaid-101-3/
LOCATION:Zoom
CATEGORIES:Lunch & Learn Events
ATTACH;FMTTYPE=image/jpeg:https://strohscheinlawgroup.com/wp-content/uploads/2024/07/medicaid-for-millions-2-e1721058898247.jpg
END:VEVENT
END:VCALENDAR