BEGIN:VCALENDAR
VERSION:2.0
PRODID:-//Strohschein Law Group - ECPv6.15.20//NONSGML v1.0//EN
CALSCALE:GREGORIAN
METHOD:PUBLISH
X-ORIGINAL-URL:https://strohscheinlawgroup.com
X-WR-CALDESC:Events for Strohschein Law Group
REFRESH-INTERVAL;VALUE=DURATION:PT1H
X-Robots-Tag:noindex
X-PUBLISHED-TTL:PT1H
BEGIN:VTIMEZONE
TZID:America/Chicago
BEGIN:DAYLIGHT
TZOFFSETFROM:-0600
TZOFFSETTO:-0500
TZNAME:CDT
DTSTART:20250309T080000
END:DAYLIGHT
BEGIN:STANDARD
TZOFFSETFROM:-0500
TZOFFSETTO:-0600
TZNAME:CST
DTSTART:20251102T070000
END:STANDARD
BEGIN:DAYLIGHT
TZOFFSETFROM:-0600
TZOFFSETTO:-0500
TZNAME:CDT
DTSTART:20260308T080000
END:DAYLIGHT
BEGIN:STANDARD
TZOFFSETFROM:-0500
TZOFFSETTO:-0600
TZNAME:CST
DTSTART:20261101T070000
END:STANDARD
BEGIN:DAYLIGHT
TZOFFSETFROM:-0600
TZOFFSETTO:-0500
TZNAME:CDT
DTSTART:20270314T080000
END:DAYLIGHT
BEGIN:STANDARD
TZOFFSETFROM:-0500
TZOFFSETTO:-0600
TZNAME:CST
DTSTART:20271107T070000
END:STANDARD
END:VTIMEZONE
BEGIN:VEVENT
DTSTART;TZID=America/Chicago:20260617T120000
DTEND;TZID=America/Chicago:20260617T130000
DTSTAMP:20260420T070345
CREATED:20251212T191518Z
LAST-MODIFIED:20260224T213044Z
UID:5572-1781697600-1781701200@strohscheinlawgroup.com
SUMMARY:The 2026 Medicaid Rules Update: What Families Need to Know
DESCRIPTION:Long-term care in a skilled nursing facility is very expensive and most people are not able to sustain the cost of it for very long.  An alternative for many people is to apply for Medicaid and receive assistance from the State and Federal Government.  Join us as we discuss the latest rule updates\, eligibility requirements and application process. Click on the ZOOM link below to register. \n 
URL:https://strohscheinlawgroup.com/event/the-2026-medicaid-rules-update-what-families-need-to-know/
LOCATION:Zoom
CATEGORIES:Lunch & Learn Events
ATTACH;FMTTYPE=image/png:https://strohscheinlawgroup.com/wp-content/uploads/2025/12/Gemini_Generated_Image_9o78j79o78j79o78-e1765566568182.png
END:VEVENT
END:VCALENDAR