BEGIN:VCALENDAR
VERSION:2.0
PRODID:-//Strohschein Law Group - ECPv6.15.20//NONSGML v1.0//EN
CALSCALE:GREGORIAN
METHOD:PUBLISH
X-WR-CALNAME:Strohschein Law Group
X-ORIGINAL-URL:https://strohscheinlawgroup.com
X-WR-CALDESC:Events for Strohschein Law Group
REFRESH-INTERVAL;VALUE=DURATION:PT1H
X-Robots-Tag:noindex
X-PUBLISHED-TTL:PT1H
BEGIN:VTIMEZONE
TZID:UTC
BEGIN:STANDARD
TZOFFSETFROM:+0000
TZOFFSETTO:+0000
TZNAME:UTC
DTSTART:20220101T000000
END:STANDARD
END:VTIMEZONE
BEGIN:VEVENT
DTSTART;TZID=UTC:20231115T120000
DTEND;TZID=UTC:20231115T130000
DTSTAMP:20260420T140356
CREATED:20221201T013202Z
LAST-MODIFIED:20230516T203043Z
UID:4064-1700049600-1700053200@strohscheinlawgroup.com
SUMMARY:Caregivers Toolbox
DESCRIPTION:Caregiving may be one of the hardest roles you will face in your lifetime. It’s not easy\, and most are never prepared for it. Being a caregiver for a loved one takes a lot of time\, effort and work\, and can be physically and emotionally draining. Join us in this discussion as we share tools and resources that may help answer questions and guide you through the caregiving process. Click on the link below to register.
URL:https://strohscheinlawgroup.com/event/caregivers-toolbox/
LOCATION:Zoom
CATEGORIES:Lunch & Learn Events
ATTACH;FMTTYPE=image/jpeg:https://strohscheinlawgroup.com/wp-content/uploads/2019/04/Medicaid-Home-Care-e1669836656916.jpg
END:VEVENT
END:VCALENDAR