BEGIN:VCALENDAR
VERSION:2.0
PRODID:-//Strohschein Law Group - ECPv6.15.20//NONSGML v1.0//EN
CALSCALE:GREGORIAN
METHOD:PUBLISH
X-WR-CALNAME:Strohschein Law Group
X-ORIGINAL-URL:https://strohscheinlawgroup.com
X-WR-CALDESC:Events for Strohschein Law Group
REFRESH-INTERVAL;VALUE=DURATION:PT1H
X-Robots-Tag:noindex
X-PUBLISHED-TTL:PT1H
BEGIN:VTIMEZONE
TZID:UTC
BEGIN:STANDARD
TZOFFSETFROM:+0000
TZOFFSETTO:+0000
TZNAME:UTC
DTSTART:20220101T000000
END:STANDARD
END:VTIMEZONE
BEGIN:VEVENT
DTSTART;TZID=UTC:20230809T120000
DTEND;TZID=UTC:20230809T130000
DTSTAMP:20260420T200652
CREATED:20221201T000150Z
LAST-MODIFIED:20230516T202936Z
UID:4042-1691582400-1691586000@strohscheinlawgroup.com
SUMMARY:Guardianship 101: When is it the Right Choice?
DESCRIPTION:Join us as we discuss the different types of guardianship and the responsibilities that go along with each one. We will talk about the basic requirements to becoming a guardian\, as well as the goals\, authority\, rights of the respondent and alternatives to guardianship. Choosing a guardianship is costly\, but it is the right choice in certain situations. Click on the link below to register.
URL:https://strohscheinlawgroup.com/event/guardianship-101-when-is-it-the-right-choice/
LOCATION:Zoom
CATEGORIES:Lunch & Learn Events
ATTACH;FMTTYPE=image/jpeg:https://strohscheinlawgroup.com/wp-content/uploads/2022/11/guardianship.jpg
END:VEVENT
END:VCALENDAR