BEGIN:VCALENDAR
VERSION:2.0
PRODID:-//Strohschein Law Group - ECPv6.15.20//NONSGML v1.0//EN
CALSCALE:GREGORIAN
METHOD:PUBLISH
X-ORIGINAL-URL:https://strohscheinlawgroup.com
X-WR-CALDESC:Events for Strohschein Law Group
REFRESH-INTERVAL;VALUE=DURATION:PT1H
X-Robots-Tag:noindex
X-PUBLISHED-TTL:PT1H
BEGIN:VTIMEZONE
TZID:UTC
BEGIN:STANDARD
TZOFFSETFROM:+0000
TZOFFSETTO:+0000
TZNAME:UTC
DTSTART:20220101T000000
END:STANDARD
END:VTIMEZONE
BEGIN:VEVENT
DTSTART;TZID=UTC:20230802T120000
DTEND;TZID=UTC:20230802T130000
DTSTAMP:20260420T200700
CREATED:20221130T235816Z
LAST-MODIFIED:20230516T202906Z
UID:4040-1690977600-1690981200@strohscheinlawgroup.com
SUMMARY:Medicaid 101
DESCRIPTION:Long-term care in a skilled nursing facility is very expensive and most people are not able to sustain the cost for very long. An alternative for many people is to apply for Medicaid and receive assistance from the State and Federal Government. Please join us as we discuss Medicaid’s eligibility and application process. Click on the link below to register.
URL:https://strohscheinlawgroup.com/event/medicaid-101/
LOCATION:Zoom
CATEGORIES:Lunch & Learn Events
ATTACH;FMTTYPE=image/jpeg:https://strohscheinlawgroup.com/wp-content/uploads/2022/11/stethoscope.jpg
END:VEVENT
END:VCALENDAR