BEGIN:VCALENDAR
VERSION:2.0
PRODID:-//Strohschein Law Group - ECPv6.15.20//NONSGML v1.0//EN
CALSCALE:GREGORIAN
METHOD:PUBLISH
X-WR-CALNAME:Strohschein Law Group
X-ORIGINAL-URL:https://strohscheinlawgroup.com
X-WR-CALDESC:Events for Strohschein Law Group
REFRESH-INTERVAL;VALUE=DURATION:PT1H
X-Robots-Tag:noindex
X-PUBLISHED-TTL:PT1H
BEGIN:VTIMEZONE
TZID:UTC
BEGIN:STANDARD
TZOFFSETFROM:+0000
TZOFFSETTO:+0000
TZNAME:UTC
DTSTART:20220101T000000
END:STANDARD
END:VTIMEZONE
BEGIN:VEVENT
DTSTART;TZID=UTC:20230502T120000
DTEND;TZID=UTC:20230502T130000
DTSTAMP:20260420T235741
CREATED:20221130T035551Z
LAST-MODIFIED:20221130T035551Z
UID:4033-1683028800-1683032400@strohscheinlawgroup.com
SUMMARY:Protecting Your Assets From the Cost of Long-Term Care
DESCRIPTION:You need care. We have got options! Join us to get a better understanding of long-term care needs\, costs\, and up-to-date planning options that will protect your hard earned dollars. We will cover the Medicaid Asset Protection Trust (MAPT) planning strategies and the Veterans Asset Protection Trust (VAPT). Click on the link below to register.
URL:https://strohscheinlawgroup.com/event/protecting-your-assets-from-the-cost-of-long-term-care/
LOCATION:Zoom
CATEGORIES:Lunch & Learn Events
ATTACH;FMTTYPE=image/jpeg:https://strohscheinlawgroup.com/wp-content/uploads/2021/11/Resource-Family-Protection-Plan.jpg
END:VEVENT
BEGIN:VEVENT
DTSTART;TZID=UTC:20230509T120000
DTEND;TZID=UTC:20230509T130000
DTSTAMP:20260420T235741
CREATED:20221130T230652Z
LAST-MODIFIED:20221130T230652Z
UID:4035-1683633600-1683637200@strohscheinlawgroup.com
SUMMARY:Caregiver & Senior Housing Contracts: What You Need to Know Before signing on the Dotted Line
DESCRIPTION:Whether you are hiring a new caregiver or are moving into a senior housing facility\, you will most likely be presented with a contract to sign. There are a few things you need to be aware of before signing on the dotted line. Join us as we discuss problematic contract clauses you may encounter\, how a contract can help prevent penalties if you apply for Medicaid down the road\, and ways to best protect yourself or a loved one. Click on the link below to register.
URL:https://strohscheinlawgroup.com/event/caregiver-senior-housing-contracts-what-you-need-to-know-before-signing-on-the-dotted-line/
LOCATION:Zoom
CATEGORIES:Lunch & Learn Events
ATTACH;FMTTYPE=image/jpeg:https://strohscheinlawgroup.com/wp-content/uploads/2022/11/Caregiver-and-Senior-Housing-Contracts.jpg
END:VEVENT
BEGIN:VEVENT
DTSTART;TZID=UTC:20230516T120000
DTEND;TZID=UTC:20230516T130000
DTSTAMP:20260420T235741
CREATED:20221130T234449Z
LAST-MODIFIED:20221130T234449Z
UID:4038-1684238400-1684242000@strohscheinlawgroup.com
SUMMARY:What is Your Plan B?
DESCRIPTION:Plan A usually includes spending our last dollars and dying peacefully in our sleep. But Plan A rarely happens. Plan B might include getting care in your home\, moving to a nursing home\, or anything in between. Join the discussion to learn how to develop your own Plan B and maximize your goals. Click on the link below to register.
URL:https://strohscheinlawgroup.com/event/what-is-your-plan-b/
LOCATION:Zoom
CATEGORIES:Lunch & Learn Events
ATTACH;FMTTYPE=image/jpeg:https://strohscheinlawgroup.com/wp-content/uploads/2022/11/What-is-your-Plan-B.jpg
END:VEVENT
END:VCALENDAR