BEGIN:VCALENDAR
VERSION:2.0
PRODID:-//Strohschein Law Group - ECPv6.15.20//NONSGML v1.0//EN
CALSCALE:GREGORIAN
METHOD:PUBLISH
X-ORIGINAL-URL:https://strohscheinlawgroup.com
X-WR-CALDESC:Events for Strohschein Law Group
REFRESH-INTERVAL;VALUE=DURATION:PT1H
X-Robots-Tag:noindex
X-PUBLISHED-TTL:PT1H
BEGIN:VTIMEZONE
TZID:UTC
BEGIN:STANDARD
TZOFFSETFROM:+0000
TZOFFSETTO:+0000
TZNAME:UTC
DTSTART:20220101T000000
END:STANDARD
END:VTIMEZONE
BEGIN:VEVENT
DTSTART;TZID=UTC:20230207T120000
DTEND;TZID=UTC:20230207T130000
DTSTAMP:20260421T052836
CREATED:20221130T024841Z
LAST-MODIFIED:20221130T031353Z
UID:4018-1675771200-1675774800@strohscheinlawgroup.com
SUMMARY:New Laws for 2023: Will They Affect my Estate & Long-Term Care Planning?
DESCRIPTION:The 2023 Estate Planning Laws will affect most Americans. This is all pretty confusing\, and it can be complicated to figure out how it applies to your individual situation. Join us to learn what these changes may mean for your estate plan as well as your trustees and beneficiaries. Click on the ZOOM link below to register.
URL:https://strohscheinlawgroup.com/event/new-laws-for-2023-will-they-affect-my-estate-long-term-care-planning/
LOCATION:Zoom
CATEGORIES:Lunch & Learn Events
ATTACH;FMTTYPE=image/webp:https://strohscheinlawgroup.com/wp-content/uploads/2022/11/wooden-gavel-and-books.webp
END:VEVENT
BEGIN:VEVENT
DTSTART;TZID=UTC:20230214T120000
DTEND;TZID=UTC:20230214T130000
DTSTAMP:20260421T052836
CREATED:20221130T030907Z
LAST-MODIFIED:20221130T035714Z
UID:4025-1676376000-1676379600@strohscheinlawgroup.com
SUMMARY:Celebrity Estates: The Good\, The Bad\, & The Ugly
DESCRIPTION:Money can’t buy everything! Learn about those who could have had the best estate plan\, missed the boat in protecting their financial and personal assets. Find out how a proper estate plan can protect what really matters even if you are not a celebrity. Click on the link below to join us.
URL:https://strohscheinlawgroup.com/event/celebrity-estates-the-god-the-bad-the-ugly/
LOCATION:Zoom
CATEGORIES:Lunch & Learn Events
ATTACH;FMTTYPE=image/jpeg:https://strohscheinlawgroup.com/wp-content/uploads/2022/11/celebrity-estates-e1669756006486.jpg
END:VEVENT
BEGIN:VEVENT
DTSTART;TZID=UTC:20230221T120000
DTEND;TZID=UTC:20230221T130000
DTSTAMP:20260421T052836
CREATED:20221130T032729Z
LAST-MODIFIED:20221130T032729Z
UID:4030-1676980800-1676984400@strohscheinlawgroup.com
SUMMARY:What are Powers of Attorney & How Do I Use Them?
DESCRIPTION:When the unexpected happens\, having Powers of Attorney documents in place can make a difference in getting the care and treatment you want and need. Join us to learn about the different types of advanced directives\, which ones you need\, and some that you may consider! Click on the link below to register.
URL:https://strohscheinlawgroup.com/event/what-are-powers-of-attorney-how-do-i-use-them/
LOCATION:Zoom
CATEGORIES:Lunch & Learn Events
ATTACH;FMTTYPE=image/jpeg:https://strohscheinlawgroup.com/wp-content/uploads/2021/11/elder-law-attorney-e1669757209725.jpg
END:VEVENT
END:VCALENDAR