BEGIN:VCALENDAR
VERSION:2.0
PRODID:-//Strohschein Law Group - ECPv6.15.20//NONSGML v1.0//EN
CALSCALE:GREGORIAN
METHOD:PUBLISH
X-ORIGINAL-URL:https://strohscheinlawgroup.com
X-WR-CALDESC:Events for Strohschein Law Group
REFRESH-INTERVAL;VALUE=DURATION:PT1H
X-Robots-Tag:noindex
X-PUBLISHED-TTL:PT1H
BEGIN:VTIMEZONE
TZID:America/Chicago
BEGIN:DAYLIGHT
TZOFFSETFROM:-0600
TZOFFSETTO:-0500
TZNAME:CDT
DTSTART:20250309T080000
END:DAYLIGHT
BEGIN:STANDARD
TZOFFSETFROM:-0500
TZOFFSETTO:-0600
TZNAME:CST
DTSTART:20251102T070000
END:STANDARD
BEGIN:DAYLIGHT
TZOFFSETFROM:-0600
TZOFFSETTO:-0500
TZNAME:CDT
DTSTART:20260308T080000
END:DAYLIGHT
BEGIN:STANDARD
TZOFFSETFROM:-0500
TZOFFSETTO:-0600
TZNAME:CST
DTSTART:20261101T070000
END:STANDARD
BEGIN:DAYLIGHT
TZOFFSETFROM:-0600
TZOFFSETTO:-0500
TZNAME:CDT
DTSTART:20270314T080000
END:DAYLIGHT
BEGIN:STANDARD
TZOFFSETFROM:-0500
TZOFFSETTO:-0600
TZNAME:CST
DTSTART:20271107T070000
END:STANDARD
END:VTIMEZONE
BEGIN:VEVENT
DTSTART;TZID=America/Chicago:20260318T120000
DTEND;TZID=America/Chicago:20260318T130000
DTSTAMP:20260421T071019
CREATED:20251212T165945Z
LAST-MODIFIED:20251212T165945Z
UID:5557-1773835200-1773838800@strohscheinlawgroup.com
SUMMARY:The 2026 Care Crisis: What Adult Children Need to Know Now
DESCRIPTION:As America’s population ages\, more adult children are being called on to help aging parents navigate health changes\, care decisions\, and rising long-term care costs. Join us for practical guidance to help protect your parents\, reduce stress\, and avoid last-minute caregiving crises. Click on the link below to register. \n 
URL:https://strohscheinlawgroup.com/event/the-2026-care-crisis-what-adult-children-need-to-know-now/
LOCATION:Zoom
CATEGORIES:Lunch & Learn Events
ATTACH;FMTTYPE=image/jpeg:https://strohscheinlawgroup.com/wp-content/uploads/2025/12/pexels-kampus-7551594-scaled-e1765558476486.jpg
END:VEVENT
BEGIN:VEVENT
DTSTART;TZID=America/Chicago:20260408T120000
DTEND;TZID=America/Chicago:20260408T130000
DTSTAMP:20260421T071019
CREATED:20251212T172113Z
LAST-MODIFIED:20251212T172113Z
UID:5561-1775649600-1775653200@strohscheinlawgroup.com
SUMMARY:Senior Living: Modern Alternatives to Nursing Homes
DESCRIPTION:Yesteryear offered two housing options for seniors: your own home or a nursing home. Today there are many options and the list continues to grow. Learn the differences between the various types of communities and facilities\, including monthly fees\, up-front costs\, contracts and questions you should ask. Click on the ZOOM link below to register. \n 
URL:https://strohscheinlawgroup.com/event/senior-living-modern-alternatives-to-nursing-homes/
LOCATION:Zoom
CATEGORIES:Lunch & Learn Events
ATTACH;FMTTYPE=image/jpeg:https://strohscheinlawgroup.com/wp-content/uploads/2025/12/pexels-cottonbro-6940915-scaled-e1765559757338.jpg
END:VEVENT
BEGIN:VEVENT
DTSTART;TZID=America/Chicago:20260513T120000
DTEND;TZID=America/Chicago:20260513T130000
DTSTAMP:20260421T071019
CREATED:20251212T174151Z
LAST-MODIFIED:20260407T142610Z
UID:5567-1778673600-1778677200@strohscheinlawgroup.com
SUMMARY:Protecting Your Assets From the Cost of Long-Term Care
DESCRIPTION:You need care. We have got options! Join us to get a better understanding of long-term care needs\, costs\, and up-to-date planning options that will protect your hard earned dollars. Click on the ZOOM link below to register. \n 
URL:https://strohscheinlawgroup.com/event/protectingyour-assets-from-the-cost-of-long-term-care/
LOCATION:Zoom
CATEGORIES:Lunch & Learn Events
ATTACH;FMTTYPE=image/jpeg:https://strohscheinlawgroup.com/wp-content/uploads/2021/11/Resource-Family-Protection-Plan.jpg
END:VEVENT
BEGIN:VEVENT
DTSTART;TZID=America/Chicago:20260617T120000
DTEND;TZID=America/Chicago:20260617T130000
DTSTAMP:20260421T071019
CREATED:20251212T191518Z
LAST-MODIFIED:20260224T213044Z
UID:5572-1781697600-1781701200@strohscheinlawgroup.com
SUMMARY:The 2026 Medicaid Rules Update: What Families Need to Know
DESCRIPTION:Long-term care in a skilled nursing facility is very expensive and most people are not able to sustain the cost of it for very long.  An alternative for many people is to apply for Medicaid and receive assistance from the State and Federal Government.  Join us as we discuss the latest rule updates\, eligibility requirements and application process. Click on the ZOOM link below to register. \n 
URL:https://strohscheinlawgroup.com/event/the-2026-medicaid-rules-update-what-families-need-to-know/
LOCATION:Zoom
CATEGORIES:Lunch & Learn Events
ATTACH;FMTTYPE=image/png:https://strohscheinlawgroup.com/wp-content/uploads/2025/12/Gemini_Generated_Image_9o78j79o78j79o78-e1765566568182.png
END:VEVENT
BEGIN:VEVENT
DTSTART;TZID=America/Chicago:20260722T120000
DTEND;TZID=America/Chicago:20260722T130000
DTSTAMP:20260421T071019
CREATED:20251212T195449Z
LAST-MODIFIED:20260407T151301Z
UID:5578-1784721600-1784725200@strohscheinlawgroup.com
SUMMARY:Gadgets & Gizmos: Tools For Aging With Independence
DESCRIPTION:For seniors with cognitive or physical impairment\, high-tech safety devices have evolved into user friendly must haves. In this presentation\, we will consider different types of technology and gadgets that can increase your loved one’s safety and independence\, along with your own peace of mind. Click on the ZOOM link below to register. \n 
URL:https://strohscheinlawgroup.com/event/gadgets-gizmos-tools-for-aging-with-independence/
LOCATION:Zoom
CATEGORIES:Lunch & Learn Events
ATTACH;FMTTYPE=image/jpeg:https://strohscheinlawgroup.com/wp-content/uploads/2025/12/pexels-shvetsa-5257343-scaled-e1765568518810.jpg
END:VEVENT
BEGIN:VEVENT
DTSTART;TZID=America/Chicago:20260812T120000
DTEND;TZID=America/Chicago:20260812T130000
DTSTAMP:20260421T071019
CREATED:20251212T210945Z
LAST-MODIFIED:20251212T214855Z
UID:5588-1786536000-1786539600@strohscheinlawgroup.com
SUMMARY:You’ve Been Named Executor\, Now What?
DESCRIPTION:Wrapping up the affairs for a loved one who has died may leave you feeling overwhelmed – especially when you are still grieving. Being named executor in a will can be a big job. Join us as we walk you through the process and share tips on how to get the job done right. Click on the ZOOM link below to register.
URL:https://strohscheinlawgroup.com/event/youve-been-named-executor-now-what/
LOCATION:Zoom
CATEGORIES:Lunch & Learn Events
ATTACH;FMTTYPE=image/jpeg:https://strohscheinlawgroup.com/wp-content/uploads/2023/12/executor-2024-e1701977820707.jpg
END:VEVENT
BEGIN:VEVENT
DTSTART;TZID=America/Chicago:20260909T120000
DTEND;TZID=America/Chicago:20260909T130000
DTSTAMP:20260421T071019
CREATED:20251212T202748Z
LAST-MODIFIED:20251212T212655Z
UID:5585-1788955200-1788958800@strohscheinlawgroup.com
SUMMARY:Executor 2.0: Handling Digital Assets\, Passwords and Online Accounts
DESCRIPTION:Today’s executors must manage more than paperwork\, they’re also responsible for digital assets\, online accounts\, and electronic records. This webinar explains what counts as a digital asset\, how executors can legally access accounts\, and the challenges families commonly face with passwords and privacy rules. Attendees will gain practical guidance to avoid delays\, lost assets\, and unnecessary frustration. \n 
URL:https://strohscheinlawgroup.com/event/gadgets-gizmos-tools-for-aging-with-independence-2/
LOCATION:Zoom
CATEGORIES:Lunch & Learn Events
ATTACH;FMTTYPE=image/jpeg:https://strohscheinlawgroup.com/wp-content/uploads/2025/12/pexels-olly-3782192-scaled-e1765574639629.jpg
END:VEVENT
BEGIN:VEVENT
DTSTART;TZID=America/Chicago:20261014T120000
DTEND;TZID=America/Chicago:20261014T130000
DTSTAMP:20260421T071019
CREATED:20251215T170429Z
LAST-MODIFIED:20251215T170429Z
UID:5607-1791979200-1791982800@strohscheinlawgroup.com
SUMMARY:Building a Dementia Care Team
DESCRIPTION:Join us to gain an understanding of who should be part of a strong support system when a loved one is living with dementia. Attendees will learn the key roles of legal\, medical\, caregiving\, and support professionals\, and how each contributes at different stages of the disease. This presentation empowers families to reduce stress\, avoid costly mistakes\, and create a coordinated plan that protects both the person with dementia and those who care for them. Click the ZOOM link below to register. \n 
URL:https://strohscheinlawgroup.com/event/building-a-dementia-care-team/
LOCATION:Zoom
CATEGORIES:Lunch & Learn Events
ATTACH;FMTTYPE=image/jpeg:https://strohscheinlawgroup.com/wp-content/uploads/2025/12/pexels-diva-plavalaguna-6147373-scaled-e1765818211494.jpg
END:VEVENT
BEGIN:VEVENT
DTSTART;TZID=America/Chicago:20261111T120000
DTEND;TZID=America/Chicago:20261111T130000
DTSTAMP:20260421T071019
CREATED:20251215T171356Z
LAST-MODIFIED:20251215T173448Z
UID:5611-1794398400-1794402000@strohscheinlawgroup.com
SUMMARY:How to Enjoy the Holidays When Dementia is Involved
DESCRIPTION:The holidays can be a time of stress for any family. But when you add in a loved one with dementia\, these times can be even more intense. The lights\, music\, and hustle of the season can be overwhelming for a person with dementia when we want to include them in celebrations. Join us for this informative webinar to help you prepare for and prioritize the sensitivities of your loved one to be included in your holiday celebrations. Click on the ZOOM link below to register. \n 
URL:https://strohscheinlawgroup.com/event/how-to-enjoy-the-holidays-when-dementia-is-involved/
LOCATION:Zoom
CATEGORIES:Lunch & Learn Events
ATTACH;FMTTYPE=image/jpeg:https://strohscheinlawgroup.com/wp-content/uploads/2018/12/Family-Christmas-2-2-e1765818614250.jpg
END:VEVENT
BEGIN:VEVENT
DTSTART;TZID=America/Chicago:20261209T120000
DTEND;TZID=America/Chicago:20261209T130000
DTSTAMP:20260421T071019
CREATED:20251215T173106Z
LAST-MODIFIED:20251215T173106Z
UID:5615-1796817600-1796821200@strohscheinlawgroup.com
SUMMARY:Driving\, Firearms & Wandering: Legal Reporting Options and Practical Tools to Reduce Risk
DESCRIPTION:Join in for an informative presentation that addresses some of the most difficult and emotionally charged safety concerns families face as cognitive decline progresses. Attendees will learn about legal reporting options\, when and how professionals or family members can intervene\, and the practical tools available to reduce risk while preserving dignity and independence as much as possible. This program provides clear guidance to help families make informed\, proactive decisions before a crisis occurs. Click the ZOOM link below to register. \n 
URL:https://strohscheinlawgroup.com/event/driving-firearms-wandering-legal-reporting-options-and-practical-tools-to-reduce-risk/
LOCATION:Zoom
CATEGORIES:Lunch & Learn Events
ATTACH;FMTTYPE=image/png:https://strohscheinlawgroup.com/wp-content/uploads/2025/12/Gemini_Generated_Image_pm78zipm78zipm78-e1765819814381.png
END:VEVENT
END:VCALENDAR