BEGIN:VCALENDAR
VERSION:2.0
PRODID:-//Strohschein Law Group - ECPv6.15.20//NONSGML v1.0//EN
CALSCALE:GREGORIAN
METHOD:PUBLISH
X-ORIGINAL-URL:https://strohscheinlawgroup.com
X-WR-CALDESC:Events for Strohschein Law Group
REFRESH-INTERVAL;VALUE=DURATION:PT1H
X-Robots-Tag:noindex
X-PUBLISHED-TTL:PT1H
BEGIN:VTIMEZONE
TZID:America/Chicago
BEGIN:DAYLIGHT
TZOFFSETFROM:-0600
TZOFFSETTO:-0500
TZNAME:CDT
DTSTART:20250309T080000
END:DAYLIGHT
BEGIN:STANDARD
TZOFFSETFROM:-0500
TZOFFSETTO:-0600
TZNAME:CST
DTSTART:20251102T070000
END:STANDARD
BEGIN:DAYLIGHT
TZOFFSETFROM:-0600
TZOFFSETTO:-0500
TZNAME:CDT
DTSTART:20260308T080000
END:DAYLIGHT
BEGIN:STANDARD
TZOFFSETFROM:-0500
TZOFFSETTO:-0600
TZNAME:CST
DTSTART:20261101T070000
END:STANDARD
BEGIN:DAYLIGHT
TZOFFSETFROM:-0600
TZOFFSETTO:-0500
TZNAME:CDT
DTSTART:20270314T080000
END:DAYLIGHT
BEGIN:STANDARD
TZOFFSETFROM:-0500
TZOFFSETTO:-0600
TZNAME:CST
DTSTART:20271107T070000
END:STANDARD
END:VTIMEZONE
BEGIN:VEVENT
DTSTART;TZID=America/Chicago:20261111T120000
DTEND;TZID=America/Chicago:20261111T130000
DTSTAMP:20260421T192818
CREATED:20251215T171356Z
LAST-MODIFIED:20251215T173448Z
UID:5611-1794398400-1794402000@strohscheinlawgroup.com
SUMMARY:How to Enjoy the Holidays When Dementia is Involved
DESCRIPTION:The holidays can be a time of stress for any family. But when you add in a loved one with dementia\, these times can be even more intense. The lights\, music\, and hustle of the season can be overwhelming for a person with dementia when we want to include them in celebrations. Join us for this informative webinar to help you prepare for and prioritize the sensitivities of your loved one to be included in your holiday celebrations. Click on the ZOOM link below to register. \n 
URL:https://strohscheinlawgroup.com/event/how-to-enjoy-the-holidays-when-dementia-is-involved/
LOCATION:Zoom
CATEGORIES:Lunch & Learn Events
ATTACH;FMTTYPE=image/jpeg:https://strohscheinlawgroup.com/wp-content/uploads/2018/12/Family-Christmas-2-2-e1765818614250.jpg
END:VEVENT
BEGIN:VEVENT
DTSTART;TZID=America/Chicago:20261209T120000
DTEND;TZID=America/Chicago:20261209T130000
DTSTAMP:20260421T192818
CREATED:20251215T173106Z
LAST-MODIFIED:20251215T173106Z
UID:5615-1796817600-1796821200@strohscheinlawgroup.com
SUMMARY:Driving\, Firearms & Wandering: Legal Reporting Options and Practical Tools to Reduce Risk
DESCRIPTION:Join in for an informative presentation that addresses some of the most difficult and emotionally charged safety concerns families face as cognitive decline progresses. Attendees will learn about legal reporting options\, when and how professionals or family members can intervene\, and the practical tools available to reduce risk while preserving dignity and independence as much as possible. This program provides clear guidance to help families make informed\, proactive decisions before a crisis occurs. Click the ZOOM link below to register. \n 
URL:https://strohscheinlawgroup.com/event/driving-firearms-wandering-legal-reporting-options-and-practical-tools-to-reduce-risk/
LOCATION:Zoom
CATEGORIES:Lunch & Learn Events
ATTACH;FMTTYPE=image/png:https://strohscheinlawgroup.com/wp-content/uploads/2025/12/Gemini_Generated_Image_pm78zipm78zipm78-e1765819814381.png
END:VEVENT
END:VCALENDAR