BEGIN:VCALENDAR
VERSION:2.0
PRODID:-//Strohschein Law Group - ECPv6.15.20//NONSGML v1.0//EN
CALSCALE:GREGORIAN
METHOD:PUBLISH
X-ORIGINAL-URL:https://strohscheinlawgroup.com
X-WR-CALDESC:Events for Strohschein Law Group
REFRESH-INTERVAL;VALUE=DURATION:PT1H
X-Robots-Tag:noindex
X-PUBLISHED-TTL:PT1H
BEGIN:VTIMEZONE
TZID:America/Chicago
BEGIN:DAYLIGHT
TZOFFSETFROM:-0600
TZOFFSETTO:-0500
TZNAME:CDT
DTSTART:20230312T080000
END:DAYLIGHT
BEGIN:STANDARD
TZOFFSETFROM:-0500
TZOFFSETTO:-0600
TZNAME:CST
DTSTART:20231105T070000
END:STANDARD
BEGIN:DAYLIGHT
TZOFFSETFROM:-0600
TZOFFSETTO:-0500
TZNAME:CDT
DTSTART:20240310T080000
END:DAYLIGHT
BEGIN:STANDARD
TZOFFSETFROM:-0500
TZOFFSETTO:-0600
TZNAME:CST
DTSTART:20241103T070000
END:STANDARD
BEGIN:DAYLIGHT
TZOFFSETFROM:-0600
TZOFFSETTO:-0500
TZNAME:CDT
DTSTART:20250309T080000
END:DAYLIGHT
BEGIN:STANDARD
TZOFFSETFROM:-0500
TZOFFSETTO:-0600
TZNAME:CST
DTSTART:20251102T070000
END:STANDARD
END:VTIMEZONE
BEGIN:VEVENT
DTSTART;TZID=America/Chicago:20240417T120000
DTEND;TZID=America/Chicago:20240417T130000
DTSTAMP:20260423T010706
CREATED:20231129T195440Z
LAST-MODIFIED:20240206T192226Z
UID:4564-1713355200-1713358800@strohscheinlawgroup.com
SUMMARY:Protecting Your Assets From the Cost of Long-Term Care Planning
DESCRIPTION:If you’re concerned about how to protect your assets from nursing home costs\, you’re at an advantage if you can plan at least five years out. But there are other things you can do if a nursing home is in your immediate future\, too. Get a better understanding of long-term care needs and costs\, and up-to-date planning options to protect your hard earned dollars. This presentation includes the Medicaid Asset Protection Trust (MAPT) planning strategies and the Veterans Asset Protection Trust (VAPT). Click the link below to register.
URL:https://strohscheinlawgroup.com/event/protecting-your-assets-from-the-cost-of-long-term-care-planning/
LOCATION:Zoom
CATEGORIES:Lunch & Learn Events
ATTACH;FMTTYPE=image/jpeg:https://strohscheinlawgroup.com/wp-content/uploads/2023/11/Protecting-your-assets-e1701287236294.jpg
END:VEVENT
END:VCALENDAR