BEGIN:VCALENDAR
VERSION:2.0
PRODID:-//Strohschein Law Group - ECPv6.15.20//NONSGML v1.0//EN
CALSCALE:GREGORIAN
METHOD:PUBLISH
X-ORIGINAL-URL:https://strohscheinlawgroup.com
X-WR-CALDESC:Events for Strohschein Law Group
REFRESH-INTERVAL;VALUE=DURATION:PT1H
X-Robots-Tag:noindex
X-PUBLISHED-TTL:PT1H
BEGIN:VTIMEZONE
TZID:America/Chicago
BEGIN:DAYLIGHT
TZOFFSETFROM:-0600
TZOFFSETTO:-0500
TZNAME:CDT
DTSTART:20230312T080000
END:DAYLIGHT
BEGIN:STANDARD
TZOFFSETFROM:-0500
TZOFFSETTO:-0600
TZNAME:CST
DTSTART:20231105T070000
END:STANDARD
BEGIN:DAYLIGHT
TZOFFSETFROM:-0600
TZOFFSETTO:-0500
TZNAME:CDT
DTSTART:20240310T080000
END:DAYLIGHT
BEGIN:STANDARD
TZOFFSETFROM:-0500
TZOFFSETTO:-0600
TZNAME:CST
DTSTART:20241103T070000
END:STANDARD
BEGIN:DAYLIGHT
TZOFFSETFROM:-0600
TZOFFSETTO:-0500
TZNAME:CDT
DTSTART:20250309T080000
END:DAYLIGHT
BEGIN:STANDARD
TZOFFSETFROM:-0500
TZOFFSETTO:-0600
TZNAME:CST
DTSTART:20251102T070000
END:STANDARD
END:VTIMEZONE
BEGIN:VEVENT
DTSTART;TZID=America/Chicago:20241016T120000
DTEND;TZID=America/Chicago:20241016T130000
DTSTAMP:20260422T113213
CREATED:20231208T181507Z
LAST-MODIFIED:20240920T142205Z
UID:4602-1729080000-1729083600@strohscheinlawgroup.com
SUMMARY:Advanced Directives: Planning for Life's Unexpected Turns
DESCRIPTION:When the unexpected happens\, having advanced directive documents in place can make a difference in getting the care and treatment you want and need! Learn about the different types of advanced directives\, which ones you need\, and what you need to consider! Click on the link below to register. \n 
URL:https://strohscheinlawgroup.com/event/advanced-directives-planning-for-lifes-unexpected-turns/
LOCATION:Zoom
CATEGORIES:Lunch & Learn Events
ATTACH;FMTTYPE=image/jpeg:https://strohscheinlawgroup.com/wp-content/uploads/2023/12/qtq80-o9fmFT-e1702059231753.jpeg
END:VEVENT
END:VCALENDAR