BEGIN:VCALENDAR
VERSION:2.0
PRODID:-//Strohschein Law Group - ECPv6.15.20//NONSGML v1.0//EN
CALSCALE:GREGORIAN
METHOD:PUBLISH
X-WR-CALNAME:Strohschein Law Group
X-ORIGINAL-URL:https://strohscheinlawgroup.com
X-WR-CALDESC:Events for Strohschein Law Group
REFRESH-INTERVAL;VALUE=DURATION:PT1H
X-Robots-Tag:noindex
X-PUBLISHED-TTL:PT1H
BEGIN:VTIMEZONE
TZID:America/Chicago
BEGIN:DAYLIGHT
TZOFFSETFROM:-0600
TZOFFSETTO:-0500
TZNAME:CDT
DTSTART:20230312T080000
END:DAYLIGHT
BEGIN:STANDARD
TZOFFSETFROM:-0500
TZOFFSETTO:-0600
TZNAME:CST
DTSTART:20231105T070000
END:STANDARD
BEGIN:DAYLIGHT
TZOFFSETFROM:-0600
TZOFFSETTO:-0500
TZNAME:CDT
DTSTART:20240310T080000
END:DAYLIGHT
BEGIN:STANDARD
TZOFFSETFROM:-0500
TZOFFSETTO:-0600
TZNAME:CST
DTSTART:20241103T070000
END:STANDARD
BEGIN:DAYLIGHT
TZOFFSETFROM:-0600
TZOFFSETTO:-0500
TZNAME:CDT
DTSTART:20250309T080000
END:DAYLIGHT
BEGIN:STANDARD
TZOFFSETFROM:-0500
TZOFFSETTO:-0600
TZNAME:CST
DTSTART:20251102T070000
END:STANDARD
END:VTIMEZONE
BEGIN:VEVENT
DTSTART;TZID=America/Chicago:20240717T120000
DTEND;TZID=America/Chicago:20240717T130000
DTSTAMP:20260422T173016
CREATED:20231207T194445Z
LAST-MODIFIED:20240618T161207Z
UID:4592-1721217600-1721221200@strohscheinlawgroup.com
SUMMARY:Reimagining Estate Planning: How to Navigate the Dynamics of Today's Modern Family
DESCRIPTION:Blended families\, same-sex couples\, adoptions\, older couples who have recently become parents and single-parent families are much more the norm in today’s “Modern Family”. Join us as we explore estate planning considerations for families in 2024 and beyond. Clink on the link below to register. \n 
URL:https://strohscheinlawgroup.com/event/how-to-be-an-executor-to-your-loved-ones-estate/
LOCATION:Zoom
CATEGORIES:Lunch & Learn Events
ATTACH;FMTTYPE=image/jpeg:https://strohscheinlawgroup.com/wp-content/uploads/2023/12/Modern-Family-1-e1715005993668.jpg
END:VEVENT
END:VCALENDAR